BEGIN:VCALENDAR
VERSION:2.0
PRODID:https://github.com/derhansen/sf_event_mgt
METHOD:PUBLISH
BEGIN:VEVENT
UID:71-4@www.engel.rest
CLASS: PUBLIC
SUMMARY:Südtiroler Abend
DESCRIPTION:Tauche ein in die herzhaften Aromen Südtirols und geniesse eine
 n unvergesslichen Abend im Restaurant Engel. Lass dich von unseren leckeren
  Tiroler Gerichten und der passenden Weinbegleitung verzaubern – direkt vor
  deiner Haustür.\n\nReserviere am besten gleich deinen Tisch und erlebe ein
 e Genussreise ins Südtirol.  Wir freuen uns auf viele hungrige Gäste. Barba
 ra und Hampi Hitz mit Team\n\nAnmeldung erwünscht unter: Restaurant Engel D
 egersheimerstrasse 76 9100 Herisau Telefon: 071 351 18 77\n\ninfo@engel.res
 t
DTSTAMP:20240620T101825Z
DTSTART:20240713T160000Z
END:VEVENT
END:VCALENDAR
