BEGIN:VCALENDAR
VERSION:2.0
PRODID:https://github.com/derhansen/sf_event_mgt
METHOD:PUBLISH
BEGIN:VEVENT
UID:8-4@www.engel.rest
CLASS: PUBLIC
SUMMARY:Täglich ein Rindfleischgericht vom Weide-Beef
DESCRIPTION:Ab Montag 9. April, solange vorrätig, bieten wir Ihnen Täglich 
 ein Rindfleischgericht vom Weide-Beef an.\n\nDer Produzent ist: Christian B
 ruderer, Ramsen Herisau
DTSTAMP:20211022T160519Z
DTSTART:20180409T113000Z
END:VEVENT
END:VCALENDAR
