BEGIN:VCALENDAR
VERSION:2.0
PRODID:https://github.com/derhansen/sf_event_mgt
METHOD:PUBLISH
BEGIN:VEVENT
UID:33-4@www.engel.rest
CLASS: PUBLIC
SUMMARY:Themenabend 21 Tage Stoffwechselkur
DESCRIPTION: 	Kosten inkl. 3. Gerichte Fr. 30.- 	Teilnehmerzahl max.20 Pers
 onen \n\nAnmeldung bis 02.12.2019 direkt bei: Brigitte Sutter: 078 408 50 0
 3 brigi.sutter@bluewin.ch\n\nDownload Flyer\n\n\n\n\n\n\n\n
DTSTAMP:20211022T170420Z
DTSTART:20191205T190000Z
END:VEVENT
END:VCALENDAR
