BEGIN:VCALENDAR
VERSION:2.0
PRODID:https://github.com/derhansen/sf_event_mgt
METHOD:PUBLISH
BEGIN:VEVENT
UID:52-4@www.engel.rest
CLASS: PUBLIC
SUMMARY:Themenabend «Italien»
DESCRIPTION:Die Vorfreude auf die Sommerferien ist gross. Bei uns könnt ihr
  bereits am 9. Juli südländische Luft schnuppern. Wir machen eine kulinaris
 che Reise durch Italien!\n\nItalien ist seit jeher gleichbedeutend mit gute
 m Essen: eine unverwechselbare Explosion von Aromen, Gewürzen und Düften. D
 ie italienische Küche ist weltberühmt. Im Unterschied zu anderen Ländern ha
 t in Italien jede einzelne Gemeinde, Provinz und Region eine unglaubliche V
 ielfalt unterschiedlicher Gerichte und Rezepte zu bieten. \n\nWir freuen un
 s auf euren Besuch. Barbara und Hampi Hitz mit Team\n\nAnmeldung erwünscht 
 unter: Restaurant Engel Degersheimerstrasse 76 9100 Herisau Telefon: 071 35
 1 18 77\n\ninfo@engel.rest
DTSTAMP:20220614T104524Z
DTSTART:20220709T160000Z
DTEND:20220709T200000Z
END:VEVENT
END:VCALENDAR
