BEGIN:VCALENDAR
VERSION:2.0
PRODID:https://github.com/derhansen/sf_event_mgt
METHOD:PUBLISH
BEGIN:VEVENT
UID:53-4@www.engel.rest
CLASS: PUBLIC
SUMMARY:Themenabend «Köstliches Fernöstliches»
DESCRIPTION:Kommt mit uns auf eine vielseitige und geschmackvolle Reise dur
 ch Asien!\n\nDie asiatische Küche lebt durch eine Vielfalt an Aromen und wu
 nderbar exotische Gemüse- und Obstsorten. Jedes asiatische Land und die ein
 zelnen Regionen haben für sich ihre Spezialitäten.\n\nWir freuen uns auf eu
 ren Besuch. Barbara und Hampi Hitz mit Team\n\nAnmeldung erwünscht unter: R
 estaurant Engel Degersheimerstrasse 76 9100 Herisau Telefon: 071 351 18 77\
 n\ninfo@engel.rest\n\n\n\n
DTSTAMP:20220614T104640Z
DTSTART:20220716T160000Z
DTEND:20220716T200000Z
END:VEVENT
END:VCALENDAR
