BEGIN:VCALENDAR
VERSION:2.0
PRODID:https://github.com/derhansen/sf_event_mgt
METHOD:PUBLISH
BEGIN:VEVENT
UID:67-4@www.engel.rest
CLASS: PUBLIC
SUMMARY:Traditioneller Silvester im Engel
DESCRIPTION:Mit etwas Glück könnt ihr bei uns mehrere Chlausenschuppel erle
 ben. Zwischen den Gruppen servieren wir euch traditionelle Speisen und Getr
 änke.  Das Engel-Team freut sich auf einen gelungenen Silvester und wünscht
  «ä guets Neus».\n\n\n\nAm 31. Dezember 2023  bleibt unser Restaurant gesch
 lossen!
DTSTAMP:20231121T174302Z
DTSTART:20231230T090000Z
DTEND:20231231T000000Z
END:VEVENT
END:VCALENDAR
