BEGIN:VCALENDAR
VERSION:2.0
PRODID:https://github.com/derhansen/sf_event_mgt
METHOD:PUBLISH
BEGIN:VEVENT
UID:32-4@www.engel.rest
CLASS: PUBLIC
SUMMARY:Traditioneller Silvester im Engel
DESCRIPTION:Es werden durchgehend traditionelle Speisen und Getränke angebo
 ten.\n\nEs können keine Tischreservationen entgegen genommen werden.\n\nAm 
 1. Januar 2020  bleibt unser Restaurant geschlossen am 2.Januar 2020 sind w
 ir von 10.00-20.00 Uhr für Sie da.
DTSTAMP:20211022T170321Z
DTSTART:20191231T100000Z
END:VEVENT
END:VCALENDAR
