BEGIN:VCALENDAR
VERSION:2.0
PRODID:https://github.com/derhansen/sf_event_mgt
METHOD:PUBLISH
BEGIN:VEVENT
UID:41-4@www.engel.rest
CLASS: PUBLIC
SUMMARY:Traumziel Karibik
DESCRIPTION:Ein Samstag Abend mit kulinarischen Inselträumen wie ihr sie so
 nst nur im Urlaub geniessen könnt. Wir bieten euch überraschende und exotis
 che Geschmackskombinationen. \n\nFisch und Fleisch wird direkt am Holzkohle
 grill gekocht.\n\n\n\nAnmeldung erwünscht unter: Restaurant Engel Degershei
 merstrasse 76 9100 Herisau Telefon: 071 351 18 77\n\ninfo@engel.rest
DTSTAMP:20211022T171412Z
DTSTART:20200808T170000Z
END:VEVENT
END:VCALENDAR
