BEGIN:VCALENDAR
VERSION:2.0
PRODID:https://github.com/derhansen/sf_event_mgt
METHOD:PUBLISH
BEGIN:VEVENT
UID:15-4@www.engel.rest
CLASS: PUBLIC
SUMMARY:USA - Feriengefühle im Restaurant Engel
DESCRIPTION:Jeden Samstagabend während den Sommerferien verführen wir Sie k
 ulinarisch in ein Ferienland. Am 4. August geht es in die USA.\n\nDie ethni
 sche Vielfalt der USA bestimmt die Vielfalt ihrer Küche: Sie ist ein Schmel
 ztiegel der verschiedensten Kochkulturen. Als typisch amerikanisch gelten b
 ei uns allerdings Gerichte wie Spareribs, Truthahn oder American Pie.
DTSTAMP:20211022T161120Z
DTSTART:20180804T170000Z
END:VEVENT
END:VCALENDAR
