BEGIN:VCALENDAR
VERSION:2.0
PRODID:https://github.com/derhansen/sf_event_mgt
METHOD:PUBLISH
BEGIN:VEVENT
UID:31-4@www.engel.rest
CLASS: PUBLIC
SUMMARY:Whisky-Advents Anlass
DESCRIPTION:Zusammen mit dem House of Single Malts veranstalten wir einen e
 xklusiven Whisky-Abend unter dem Motto «Weihnachtsmarkt».    Preis pro Pers
 on inklusive Essen, Whiskey, Mineralwasser und einem Kaffee Fr.115.-   Besc
 hränkte Platzanzahl, Anmeldung erforderlich unter:   Restaurant Engel Telef
 on: 071 351 18 77 oder info@engel.rest   Es freuen sich über euren Besuch B
 arbara und Hampi Hitz mit Team\n\nWir sind ausgebucht!
DTSTAMP:20211022T170249Z
DTSTART:20191213T190000Z
END:VEVENT
END:VCALENDAR
