BEGIN:VCALENDAR
VERSION:2.0
PRODID:https://github.com/derhansen/sf_event_mgt
METHOD:PUBLISH
BEGIN:VEVENT
UID:22-4@www.engel.rest
CLASS: PUBLIC
SUMMARY:Whisky und Rum Event im Engel
DESCRIPTION:Zusammen mit dem House of Single Malts veranstalten wir einen e
 xklusiven Whisky und Rum Abend unter dem Motto «Von Schottland in die Karib
 ik».\n\nPreis pro Person inklusive Essen, Whisky, Rum, Mineralwasser und ei
 nem Kaffee Fr.120.-\n\nBeschränkte Platzanzahl, Anmeldung erforderlich unte
 r:\n\nRestaurant Engel Telefon: 071 351 18 77 E-Mail: info@engel.rest\n\nEs
  freuen sich über eueren Besuch Barbara und Hampi Hitz mit Team
DTSTAMP:20211022T161958Z
DTSTART:20190503T190000Z
END:VEVENT
END:VCALENDAR
