BEGIN:VCALENDAR
VERSION:2.0
PRODID:https://github.com/derhansen/sf_event_mgt
METHOD:PUBLISH
BEGIN:VEVENT
UID:30-4@www.engel.rest
CLASS: PUBLIC
SUMMARY:Wild-Wochenende 2020
DESCRIPTION:Wir verwöhnen Sie mit feinen Wild-Spezialitäten aus der Region,
  tollen Beilagen und kreativen Garnituren. Dazu trinken Sie Sauser oder ein
  feines Glas Wein.\n\nLassen Sie sich von unserer Auswahl überraschen, wir 
 freuen uns!
DTSTAMP:20211022T170107Z
DTSTART:20201016T170000Z
DTEND:20201018T200000Z
END:VEVENT
END:VCALENDAR
