BEGIN:VCALENDAR
VERSION:2.0
PRODID:https://github.com/derhansen/sf_event_mgt
METHOD:PUBLISH
BEGIN:VEVENT
UID:46-4@www.engel.rest
CLASS: PUBLIC
SUMMARY:Wild-Wochenende 2021
DESCRIPTION:Wir verwöhnen Sie mit feinen Wild-Spezialitäten aus der Region,
  tollen Beilagen und kreativen Garnituren. Dazu trinken Sie Sauser oder ein
  feines Glas Wein.\n\nLassen Sie sich von unserer Auswahl überraschen, wir 
 freuen uns!\n\nEssenszeiten Freitag und Samstag ab 17.00 Uhr Sonntag 11.30 
 bis 20.00 Uhr\n\nAnmeldung erwünscht unter: Restaurant Engel Degersheimerst
 rasse 76 9100 Herisau Telefon: 071 351 18 77\n\ninfo@engel.rest
DTSTAMP:20211025T213414Z
DTSTART:20211022T170000Z
DTEND:20211024T200000Z
END:VEVENT
END:VCALENDAR
