BEGIN:VCALENDAR
VERSION:2.0
PRODID:https://github.com/derhansen/sf_event_mgt
METHOD:PUBLISH
BEGIN:VEVENT
UID:55-4@www.engel.rest
CLASS: PUBLIC
SUMMARY:Wild-Wochenende 2022
DESCRIPTION:Wir verwöhnen Sie mit feinen Wild-Spezialitäten aus der Region,
  tollen Beilagen und kreativen Garnituren. Dazu trinken Sie Sauser oder ein
  feines Glas Wein.\n\nLassen Sie sich von unserer Auswahl überraschen, wir 
 freuen uns!\n\nEssenszeiten Samstag 8. und Sonntag 9. Oktober jeweils durch
 gehend warme Küche von 11.30–20.00 Uhr!\n\nAnmeldung erwünscht unter: Resta
 urant Engel Degersheimerstrasse 76 9100 Herisau Telefon: 071 351 18 77\n\ni
 nfo@engel.rest
DTSTAMP:20220914T212549Z
DTSTART:20221008T093000Z
DTEND:20221009T180000Z
END:VEVENT
END:VCALENDAR
