BEGIN:VCALENDAR
VERSION:2.0
PRODID:https://github.com/derhansen/sf_event_mgt
METHOD:PUBLISH
BEGIN:VEVENT
UID:64-4@www.engel.rest
CLASS: PUBLIC
SUMMARY:Wild-Wochenende 2023
DESCRIPTION:Wir verwöhnen Sie mit feinen Wild-Spezialitäten aus der Region,
  tollen Beilagen und kreativen Garnituren. Dazu trinken Sie Sauser oder ein
  feines Glas Wein.\n\nLassen Sie sich von unserer Auswahl überraschen, wir 
 freuen uns!\n\nEssenszeiten Samstag 14. und Sonntag 15. Oktober jeweils dur
 chgehend warme Küche von 11.30–20.00 Uhr!\n\nAnmeldung erwünscht unter: Res
 taurant Engel Degersheimerstrasse 76 9100 Herisau Telefon: 071 351 18 77\n\
 ninfo@engel.rest
DTSTAMP:20230830T092803Z
DTSTART:20231013T150000Z
DTEND:20231015T180000Z
END:VEVENT
END:VCALENDAR
