BEGIN:VCALENDAR
VERSION:2.0
PRODID:https://github.com/derhansen/sf_event_mgt
METHOD:PUBLISH
BEGIN:VEVENT
UID:73-4@www.engel.rest
CLASS: PUBLIC
SUMMARY:Wild-Wochenende 2024
DESCRIPTION:Wir verwöhnen Sie mit feinen Wild-Spezialitäten, tollen Beilage
 n und kreativen Garnituren. Dazu trinken Sie Sauser oder ein feines Glas We
 in.\n\nLassen Sie sich von unserer Auswahl überraschen, wir freuen uns!\n\n
 Essenszeiten\n\n 	 		 			Fr. 11.10.2024 			17.00–21.00 Uhr 		 		 			Sa. 12.
 10.2024 			11.30–21.00 Uhr 		 		 			So. 13.10.2024 			11.30–20.00 Uhr 		 	 
 \n\n Anmeldung erwünscht unter: Restaurant Engel Degersheimerstrasse 76 910
 0 Herisau Telefon: 071 351 18 77\n\ninfo@engel.rest
DTSTAMP:20240909T122650Z
DTSTART:20241011T150000Z
DTEND:20241013T180000Z
END:VEVENT
END:VCALENDAR
