BEGIN:VCALENDAR
VERSION:2.0
PRODID:https://github.com/derhansen/sf_event_mgt
METHOD:PUBLISH
BEGIN:VEVENT
UID:57-4@www.engel.rest
CLASS: PUBLIC
SUMMARY:Wir feiern das 5-jährige Jubiläum im Engel mit «Ghackets und Hörnli
 » und den Elefanten-Sounders
DESCRIPTION:«Ghackets und Hörnli» zum Jubiläumspreis\n\nEinfach, bodenständ
 ig und schon fast Kult : Wir servieren euch den ganzen Tag «Ghackets und Hö
 rnli» mit Apfelmus zum Jubiläumspreis von CHF 5.\n\nAb 19.00 Uhr live Unter
 haltung mit den «Elefanten Sounders»\n\nDie Elefanten-Sounders begeistern s
 eit 30 Jahren ein durchmischtes Publikum von ganz jung bis schon recht älte
 r. Mit ihren Spielwitz und einem Repertoire das von Zäuerli, live Stegreif-
 Performances, über Blues, Dixieland bis hin zum Schlager reicht, ist für je
 den etwas dabei. Dass sich die erfahrenen Hobbymusker dabei selber nicht im
 mer so ganz ernst nehmen, kommt vor allem dem begeisterten Publikum zugute.
 \n\nMehr zu den Elefanten Sounders: www.elefanten-sounders.ch\n\n\n\nWir fr
 euen uns riesig über jeden Besuch. Barbara und Hampi Hitz mit Team
DTSTAMP:20221011T170042Z
DTSTART:20221201T073000Z
END:VEVENT
END:VCALENDAR
